BEGIN:VCALENDAR
VERSION:2.0
PRODID:-//LEO Network//Training Calendar//EN
BEGIN:VEVENT
UID:event-4978@leo-network.com
DTSTAMP:20260422T172951Z
DTSTART:20240530T150000Z
DTEND:20240601T000000Z
SUMMARY:Administrative Investigation of Jail/Correction Officer
DESCRIPTION:Law Enforcement Training
Hosted by: Legal and Liability Risk Management Institute

View event details:
https://www.leo-network.com/event/administrative-investigation-of-jail-correction-officer-oklahoma-city-ok-4978/
LOCATION:Oklahoma City, OK
URL:https://www.leo-network.com/event/administrative-investigation-of-jail-correction-officer-oklahoma-city-ok-4978/
END:VEVENT
END:VCALENDAR
