BEGIN:VCALENDAR
VERSION:2.0
PRODID:-//LEO Network//Training Calendar//EN
BEGIN:VEVENT
UID:event-4986@leo-network.com
DTSTAMP:20260423T102502Z
DTSTART:20240625T150000Z
DTEND:20240627T000000Z
SUMMARY:Death Investigation: Cause, Manner & Mechanism of Death
DESCRIPTION:Law Enforcement Training
Hosted by: Legal and Liability Risk Management Institute

View event details:
https://www.leo-network.com/event/death-investigation-cause-manner-mechanism-of-death-stapleton-al-4986/
LOCATION:Stapleton, AL
URL:https://www.leo-network.com/event/death-investigation-cause-manner-mechanism-of-death-stapleton-al-4986/
END:VEVENT
END:VCALENDAR
