BEGIN:VCALENDAR
VERSION:2.0
PRODID:-//LEO Network//Training Calendar//EN
BEGIN:VEVENT
UID:event-4992@leo-network.com
DTSTAMP:20260422T173115Z
DTSTART:20240812T150000Z
DTEND:20240814T000000Z
SUMMARY:PREA Investigator Training
DESCRIPTION:Law Enforcement Training
Hosted by: Legal and Liability Risk Management Institute

View event details:
https://www.leo-network.com/event/prea-investigator-training-oklahoma-city-ok-4992/
LOCATION:Oklahoma City, OK
URL:https://www.leo-network.com/event/prea-investigator-training-oklahoma-city-ok-4992/
END:VEVENT
END:VCALENDAR
