BEGIN:VCALENDAR
VERSION:2.0
PRODID:-//LEO Network//Training Calendar//EN
BEGIN:VEVENT
UID:event-4993@leo-network.com
DTSTAMP:20260423T102538Z
DTSTART:20240813T150000Z
DTEND:20240816T000000Z
SUMMARY:3-Day New Detective and New Criminal Investigator
DESCRIPTION:Law Enforcement Training
Hosted by: Legal and Liability Risk Management Institute

View event details:
https://www.leo-network.com/event/3-day-new-detective-and-new-criminal-investigator-stapleton-al-4993/
LOCATION:Stapleton, AL
URL:https://www.leo-network.com/event/3-day-new-detective-and-new-criminal-investigator-stapleton-al-4993/
END:VEVENT
END:VCALENDAR
