BEGIN:VCALENDAR
VERSION:2.0
PRODID:-//LEO Network//Training Calendar//EN
BEGIN:VEVENT
UID:event-5038@leo-network.com
DTSTAMP:20260422T220258Z
DTSTART:20240408T150000Z
DTEND:20240410T000000Z
SUMMARY:De-escalation: Principles & Practice
DESCRIPTION:Law Enforcement Training
Hosted by: National De-escalation Training Center

View event details:
https://www.leo-network.com/event/de-escalation-principles-practice-edmond-ok-5038/
LOCATION:Edmond, OK
URL:https://www.leo-network.com/event/de-escalation-principles-practice-edmond-ok-5038/
END:VEVENT
END:VCALENDAR
