BEGIN:VCALENDAR
VERSION:2.0
PRODID:-//LEO Network//Training Calendar//EN
BEGIN:VEVENT
UID:event-5056@leo-network.com
DTSTAMP:20260422T161450Z
DTSTART:20240409T150000Z
DTEND:20240410T000000Z
SUMMARY:The Illicit Fentanyl Crisis and Drug Poisonings
DESCRIPTION:Law Enforcement Training
Hosted by: Eagle 6 Training

View event details:
https://www.leo-network.com/event/the-illicit-fentanyl-crisis-and-drug-poisonings-liberty-mo-5056/
LOCATION:Liberty, MO
URL:https://www.leo-network.com/event/the-illicit-fentanyl-crisis-and-drug-poisonings-liberty-mo-5056/
END:VEVENT
END:VCALENDAR
