BEGIN:VCALENDAR
VERSION:2.0
PRODID:-//LEO Network//Training Calendar//EN
BEGIN:VEVENT
UID:event-5073@leo-network.com
DTSTAMP:20260423T115053Z
DTSTART:20240603T150000Z
DTEND:20240604T000000Z
SUMMARY:Auto Theft & Vehicle Crimes 
DESCRIPTION:Law Enforcement Training
Hosted by: Underworld LLC

View event details:
https://www.leo-network.com/event/auto-theft-vehicle-crimes-salisbury-nc-5073/
LOCATION:Salisbury, NC
URL:https://www.leo-network.com/event/auto-theft-vehicle-crimes-salisbury-nc-5073/
END:VEVENT
END:VCALENDAR
