BEGIN:VCALENDAR
VERSION:2.0
PRODID:-//LEO Network//Training Calendar//EN
BEGIN:VEVENT
UID:event-5119@leo-network.com
DTSTAMP:20260423T114412Z
DTSTART:20240701T150000Z
DTEND:20240702T000000Z
SUMMARY:Mastering Search & Seizure by Blue to Gold
DESCRIPTION:Law Enforcement Training
Hosted by: Blue to Gold Training

View event details:
https://www.leo-network.com/event/mastering-search-seizure-by-blue-to-gold-parkersburg-wv-5119/
LOCATION:Parkersburg, WV
URL:https://www.leo-network.com/event/mastering-search-seizure-by-blue-to-gold-parkersburg-wv-5119/
END:VEVENT
END:VCALENDAR
