BEGIN:VCALENDAR
VERSION:2.0
PRODID:-//LEO Network//Training Calendar//EN
BEGIN:VEVENT
UID:event-512@leo-network.com
DTSTAMP:20260422T154942Z
DTSTART:20230606T150000Z
DTEND:20230607T000000Z
SUMMARY:Advanced Traffic Stops
DESCRIPTION:Law Enforcement Training
Hosted by: Blue to Gold Training

View event details:
https://www.leo-network.com/event/advanced-traffic-stops-fort-scott-ks-512/
LOCATION:Fort Scott, KS
URL:https://www.leo-network.com/event/advanced-traffic-stops-fort-scott-ks-512/
END:VEVENT
END:VCALENDAR
