BEGIN:VCALENDAR
VERSION:2.0
PRODID:-//LEO Network//Training Calendar//EN
BEGIN:VEVENT
UID:event-5123@leo-network.com
DTSTAMP:20260424T183941Z
DTSTART:20241014T150000Z
DTEND:20241015T000000Z
SUMMARY:California Mastering Search & Seizure by Blue to Gold
DESCRIPTION:Law Enforcement Training
Hosted by: Blue to Gold Training

View event details:
https://www.leo-network.com/event/california-mastering-search-seizure-by-blue-to-gold-costa-mesa-ca-5123/
LOCATION:Costa Mesa, CA
URL:https://www.leo-network.com/event/california-mastering-search-seizure-by-blue-to-gold-costa-mesa-ca-5123/
END:VEVENT
END:VCALENDAR
