BEGIN:VCALENDAR
VERSION:2.0
PRODID:-//LEO Network//Training Calendar//EN
BEGIN:VEVENT
UID:event-5124@leo-network.com
DTSTAMP:20260423T022307Z
DTSTART:20241007T150000Z
DTEND:20241008T000000Z
SUMMARY:Crisis Communication: Skills for De-Escalating Encounters by Blue to Gold
DESCRIPTION:Law Enforcement Training
Hosted by: Blue to Gold Training

View event details:
https://www.leo-network.com/event/crisis-communication-skills-for-de-escalating-encounters-by-blue-to-gold-manchester-nh-5124/
LOCATION:Manchester, NH
URL:https://www.leo-network.com/event/crisis-communication-skills-for-de-escalating-encounters-by-blue-to-gold-manchester-nh-5124/
END:VEVENT
END:VCALENDAR
