BEGIN:VCALENDAR
VERSION:2.0
PRODID:-//LEO Network//Training Calendar//EN
BEGIN:VEVENT
UID:event-5125@leo-network.com
DTSTAMP:20260423T100545Z
DTSTART:20241216T160000Z
DTEND:20241217T010000Z
SUMMARY:The Narc by Blue to Gold
DESCRIPTION:Law Enforcement Training
Hosted by: Blue to Gold Training

View event details:
https://www.leo-network.com/event/the-narc-by-blue-to-gold-saint-albans-wv-5125/
LOCATION:Saint Albans, WV
URL:https://www.leo-network.com/event/the-narc-by-blue-to-gold-saint-albans-wv-5125/
END:VEVENT
END:VCALENDAR
