BEGIN:VCALENDAR
VERSION:2.0
PRODID:-//LEO Network//Training Calendar//EN
BEGIN:VEVENT
UID:event-5150@leo-network.com
DTSTAMP:20260420T013256Z
DTSTART:20240712T150000Z
DTEND:20240713T000000Z
SUMMARY:Recognizing Pre-Attack Indicators
DESCRIPTION:Law Enforcement Training
Hosted by: ONEFACE LLC

View event details:
https://www.leo-network.com/event/recognizing-pre-attack-indicators-o-fallon-mo-5150/
LOCATION:O&#039;Fallon, MO
URL:https://www.leo-network.com/event/recognizing-pre-attack-indicators-o-fallon-mo-5150/
END:VEVENT
END:VCALENDAR
