BEGIN:VCALENDAR
VERSION:2.0
PRODID:-//LEO Network//Training Calendar//EN
BEGIN:VEVENT
UID:event-5151@leo-network.com
DTSTAMP:20260420T061712Z
DTSTART:20240905T150000Z
DTEND:20240906T000000Z
SUMMARY:Body Language for Law Enforcement
DESCRIPTION:Law Enforcement Training
Hosted by: ONEFACE LLC

View event details:
https://www.leo-network.com/event/body-language-for-law-enforcement-wooster-oh-5151/
LOCATION:Wooster, OH
URL:https://www.leo-network.com/event/body-language-for-law-enforcement-wooster-oh-5151/
END:VEVENT
END:VCALENDAR
