BEGIN:VCALENDAR
VERSION:2.0
PRODID:-//LEO Network//Training Calendar//EN
BEGIN:VEVENT
UID:event-5152@leo-network.com
DTSTAMP:20260421T232333Z
DTSTART:20240826T150000Z
DTEND:20240827T000000Z
SUMMARY:Body Language for Law Enforcement
DESCRIPTION:Law Enforcement Training
Hosted by: ONEFACE LLC

View event details:
https://www.leo-network.com/event/body-language-for-law-enforcement-hartford-ct-5152/
LOCATION:Hartford, CT
URL:https://www.leo-network.com/event/body-language-for-law-enforcement-hartford-ct-5152/
END:VEVENT
END:VCALENDAR
