BEGIN:VCALENDAR
VERSION:2.0
PRODID:-//LEO Network//Training Calendar//EN
BEGIN:VEVENT
UID:event-5153@leo-network.com
DTSTAMP:20260421T215554Z
DTSTART:20240827T150000Z
DTEND:20240828T000000Z
SUMMARY:Recognizing Pre-Attack Indicators
DESCRIPTION:Law Enforcement Training
Hosted by: ONEFACE LLC

View event details:
https://www.leo-network.com/event/recognizing-pre-attack-indicators-hartford-ct-5153/
LOCATION:Hartford, CT
URL:https://www.leo-network.com/event/recognizing-pre-attack-indicators-hartford-ct-5153/
END:VEVENT
END:VCALENDAR
