BEGIN:VCALENDAR
VERSION:2.0
PRODID:-//LEO Network//Training Calendar//EN
BEGIN:VEVENT
UID:event-5177@leo-network.com
DTSTAMP:20260422T155029Z
DTSTART:20240513T150000Z
DTEND:20240515T000000Z
SUMMARY:De-escalation: Principles & Practice
DESCRIPTION:Law Enforcement Training
Hosted by: National De-escalation Training Center

View event details:
https://www.leo-network.com/event/de-escalation-principles-practice-st-charles-mo-5177/
LOCATION:St. Charles, MO
URL:https://www.leo-network.com/event/de-escalation-principles-practice-st-charles-mo-5177/
END:VEVENT
END:VCALENDAR
