BEGIN:VCALENDAR
VERSION:2.0
PRODID:-//LEO Network//Training Calendar//EN
BEGIN:VEVENT
UID:event-5178@leo-network.com
DTSTAMP:20260422T220247Z
DTSTART:20240520T150000Z
DTEND:20240524T000000Z
SUMMARY:De-escalation Principles & Practice Train the Trainer
DESCRIPTION:Law Enforcement Training
Hosted by: National De-escalation Training Center

View event details:
https://www.leo-network.com/event/de-escalation-principles-practice-train-the-trainer-edmond-ok-5178/
LOCATION:Edmond, OK
URL:https://www.leo-network.com/event/de-escalation-principles-practice-train-the-trainer-edmond-ok-5178/
END:VEVENT
END:VCALENDAR
