BEGIN:VCALENDAR
VERSION:2.0
PRODID:-//LEO Network//Training Calendar//EN
BEGIN:VEVENT
UID:event-5180@leo-network.com
DTSTAMP:20260422T005350Z
DTSTART:20240826T150000Z
DTEND:20240827T000000Z
SUMMARY:New Trends in Obtaining and Mapping Location Data for Police
DESCRIPTION:Law Enforcement Training
Hosted by: Badge Apps LLC

View event details:
https://www.leo-network.com/event/new-trends-in-obtaining-and-mapping-location-data-for-police-dfw-airport-tx-5180/
LOCATION:DFW Airport, TX
URL:https://www.leo-network.com/event/new-trends-in-obtaining-and-mapping-location-data-for-police-dfw-airport-tx-5180/
END:VEVENT
END:VCALENDAR
