BEGIN:VCALENDAR
VERSION:2.0
PRODID:-//LEO Network//Training Calendar//EN
BEGIN:VEVENT
UID:event-5181@leo-network.com
DTSTAMP:20260422T010426Z
DTSTART:20240827T150000Z
DTEND:20240828T000000Z
SUMMARY:IP, App & Internet Investigations for Police
DESCRIPTION:Law Enforcement Training
Hosted by: Badge Apps LLC

View event details:
https://www.leo-network.com/event/ip-app-internet-investigations-for-police-dfw-airport-tx-5181/
LOCATION:DFW Airport, TX
URL:https://www.leo-network.com/event/ip-app-internet-investigations-for-police-dfw-airport-tx-5181/
END:VEVENT
END:VCALENDAR
