BEGIN:VCALENDAR
VERSION:2.0
PRODID:-//LEO Network//Training Calendar//EN
BEGIN:VEVENT
UID:event-519@leo-network.com
DTSTAMP:20260422T161337Z
DTSTART:20230607T150000Z
DTEND:20230608T000000Z
SUMMARY:Bulletproof Courtroom Testimony
DESCRIPTION:Law Enforcement Training
Hosted by: Blue to Gold Training

View event details:
https://www.leo-network.com/event/bulletproof-courtroom-testimony-fort-scott-ks-519/
LOCATION:Fort Scott, KS
URL:https://www.leo-network.com/event/bulletproof-courtroom-testimony-fort-scott-ks-519/
END:VEVENT
END:VCALENDAR
