BEGIN:VCALENDAR
VERSION:2.0
PRODID:-//LEO Network//Training Calendar//EN
BEGIN:VEVENT
UID:event-521@leo-network.com
DTSTAMP:20260422T155029Z
DTSTART:20230608T150000Z
DTEND:20230609T000000Z
SUMMARY:Real World De-Escalation
DESCRIPTION:Law Enforcement Training
Hosted by: Blue to Gold Training

View event details:
https://www.leo-network.com/event/real-world-de-escalation-fort-scott-ks-521/
LOCATION:Fort Scott, KS
URL:https://www.leo-network.com/event/real-world-de-escalation-fort-scott-ks-521/
END:VEVENT
END:VCALENDAR
