BEGIN:VCALENDAR
VERSION:2.0
PRODID:-//LEO Network//Training Calendar//EN
BEGIN:VEVENT
UID:event-523@leo-network.com
DTSTAMP:20260422T154941Z
DTSTART:20230608T150000Z
DTEND:20230609T000000Z
SUMMARY:Duty to Intervene
DESCRIPTION:Law Enforcement Training
Hosted by: Blue to Gold Training

View event details:
https://www.leo-network.com/event/duty-to-intervene-fort-scott-ks-523/
LOCATION:Fort Scott, KS
URL:https://www.leo-network.com/event/duty-to-intervene-fort-scott-ks-523/
END:VEVENT
END:VCALENDAR
