BEGIN:VCALENDAR
VERSION:2.0
PRODID:-//LEO Network//Training Calendar//EN
BEGIN:VEVENT
UID:event-5233@leo-network.com
DTSTAMP:20260422T132119Z
DTSTART:20240606T150000Z
DTEND:20240607T000000Z
SUMMARY:Recognizing Pre-Attack Indicators
DESCRIPTION:Law Enforcement Training
Hosted by: ONEFACE LLC

View event details:
https://www.leo-network.com/event/recognizing-pre-attack-indicators-romulus-mi-5233/
LOCATION:Romulus, MI
URL:https://www.leo-network.com/event/recognizing-pre-attack-indicators-romulus-mi-5233/
END:VEVENT
END:VCALENDAR
