BEGIN:VCALENDAR
VERSION:2.0
PRODID:-//LEO Network//Training Calendar//EN
BEGIN:VEVENT
UID:event-5238@leo-network.com
DTSTAMP:20260422T161517Z
DTSTART:20241025T150000Z
DTEND:20241026T000000Z
SUMMARY:Empowered Policing 
DESCRIPTION:Law Enforcement Training
Hosted by: Bloodgood Law Enforcement Training Group 

View event details:
https://www.leo-network.com/event/empowered-policing-manchester-mo-5238/
LOCATION:Manchester, MO
URL:https://www.leo-network.com/event/empowered-policing-manchester-mo-5238/
END:VEVENT
END:VCALENDAR
