BEGIN:VCALENDAR
VERSION:2.0
PRODID:-//LEO Network//Training Calendar//EN
BEGIN:VEVENT
UID:event-5277@leo-network.com
DTSTAMP:20260420T181639Z
DTSTART:20240516T150000Z
DTEND:20240517T000000Z
SUMMARY:Drones: Law Enforcement (sUAS)  Program
DESCRIPTION:Law Enforcement Training
Hosted by: Homefront Protective Group

View event details:
https://www.leo-network.com/event/drones-law-enforcement-suas-program-online-5277/
LOCATION:NA, NA
URL:https://www.leo-network.com/event/drones-law-enforcement-suas-program-online-5277/
END:VEVENT
END:VCALENDAR
