BEGIN:VCALENDAR
VERSION:2.0
PRODID:-//LEO Network//Training Calendar//EN
BEGIN:VEVENT
UID:event-5289@leo-network.com
DTSTAMP:20260424T182813Z
DTSTART:20240924T150000Z
DTEND:20240926T000000Z
SUMMARY:2-Day Basic Peer Support
DESCRIPTION:Law Enforcement Training
Hosted by: Embassy Consulting Services, LLC

View event details:
https://www.leo-network.com/event/2-day-basic-peer-support-costa-mesa-ca-5289/
LOCATION:Costa Mesa, CA
URL:https://www.leo-network.com/event/2-day-basic-peer-support-costa-mesa-ca-5289/
END:VEVENT
END:VCALENDAR
