BEGIN:VCALENDAR
VERSION:2.0
PRODID:-//LEO Network//Training Calendar//EN
BEGIN:VEVENT
UID:event-5290@leo-network.com
DTSTAMP:20260424T183044Z
DTSTART:20240926T150000Z
DTEND:20240927T000000Z
SUMMARY:Critical Incident Response for Peer Support Teams
DESCRIPTION:Law Enforcement Training
Hosted by: Embassy Consulting Services, LLC

View event details:
https://www.leo-network.com/event/critical-incident-response-for-peer-support-teams-costa-mesa-ca-5290/
LOCATION:Costa Mesa, CA
URL:https://www.leo-network.com/event/critical-incident-response-for-peer-support-teams-costa-mesa-ca-5290/
END:VEVENT
END:VCALENDAR
