BEGIN:VCALENDAR
VERSION:2.0
PRODID:-//LEO Network//Training Calendar//EN
BEGIN:VEVENT
UID:event-5292@leo-network.com
DTSTAMP:20260423T114413Z
DTSTART:20241021T150000Z
DTEND:20241026T000000Z
SUMMARY:Comprehensive Roadside Interdiction
DESCRIPTION:Law Enforcement Training
Hosted by: Fog Line Training

View event details:
https://www.leo-network.com/event/comprehensive-roadside-interdiction-greensboro-nc-5292/
LOCATION:Greensboro, NC
URL:https://www.leo-network.com/event/comprehensive-roadside-interdiction-greensboro-nc-5292/
END:VEVENT
END:VCALENDAR
