BEGIN:VCALENDAR
VERSION:2.0
PRODID:-//LEO Network//Training Calendar//EN
BEGIN:VEVENT
UID:event-5294@leo-network.com
DTSTAMP:20260423T115108Z
DTSTART:20240923T150000Z
DTEND:20240925T000000Z
SUMMARY:Dominating the Traffic Stop (Where the 4th amendment and Officer Safety Merge)
DESCRIPTION:Law Enforcement Training
Hosted by: Fog Line Training

View event details:
https://www.leo-network.com/event/dominating-the-traffic-stop-where-the-4th-amendment-and-officer-safety-merge-salisbury-nc-5294/
LOCATION:Salisbury, NC
URL:https://www.leo-network.com/event/dominating-the-traffic-stop-where-the-4th-amendment-and-officer-safety-merge-salisbury-nc-5294/
END:VEVENT
END:VCALENDAR
