BEGIN:VCALENDAR
VERSION:2.0
PRODID:-//LEO Network//Training Calendar//EN
BEGIN:VEVENT
UID:event-5296@leo-network.com
DTSTAMP:20260423T114336Z
DTSTART:20240516T150000Z
DTEND:20240518T000000Z
SUMMARY:Urban Interdiction
DESCRIPTION:Law Enforcement Training
Hosted by: Fog Line Training

View event details:
https://www.leo-network.com/event/urban-interdiction-greensboro-nc-5296/
LOCATION:greensboro, NC
URL:https://www.leo-network.com/event/urban-interdiction-greensboro-nc-5296/
END:VEVENT
END:VCALENDAR
