BEGIN:VCALENDAR
VERSION:2.0
PRODID:-//LEO Network//Training Calendar//EN
BEGIN:VEVENT
UID:event-5297@leo-network.com
DTSTAMP:20260423T114435Z
DTSTART:20240708T150000Z
DTEND:20240710T000000Z
SUMMARY:Urban Interdiction
DESCRIPTION:Law Enforcement Training
Hosted by: Fog Line Training

View event details:
https://www.leo-network.com/event/urban-interdiction-salisbury-nc-5297/
LOCATION:salisbury, NC
URL:https://www.leo-network.com/event/urban-interdiction-salisbury-nc-5297/
END:VEVENT
END:VCALENDAR
