BEGIN:VCALENDAR
VERSION:2.0
PRODID:-//LEO Network//Training Calendar//EN
BEGIN:VEVENT
UID:event-5316@leo-network.com
DTSTAMP:20260422T172951Z
DTSTART:20240730T150000Z
DTEND:20240702T000000Z
SUMMARY:Internal Affairs Administrative Investigation and Officer Discipline
DESCRIPTION:Law Enforcement Training
Hosted by: Legal and Liability Risk Management Institute

View event details:
https://www.leo-network.com/event/internal-affairs-administrative-investigation-and-officer-discipline-oklahoma-city-ok-5316/
LOCATION:Oklahoma City, OK
URL:https://www.leo-network.com/event/internal-affairs-administrative-investigation-and-officer-discipline-oklahoma-city-ok-5316/
END:VEVENT
END:VCALENDAR
