BEGIN:VCALENDAR
VERSION:2.0
PRODID:-//LEO Network//Training Calendar//EN
BEGIN:VEVENT
UID:event-5380@leo-network.com
DTSTAMP:20260423T071612Z
DTSTART:20250203T160000Z
DTEND:20250204T010000Z
SUMMARY:Cartel Traps
DESCRIPTION:Law Enforcement Training
Hosted by: Cartel Traps

View event details:
https://www.leo-network.com/event/cartel-traps-beaumont-tx-5380/
LOCATION:Beaumont, TX
URL:https://www.leo-network.com/event/cartel-traps-beaumont-tx-5380/
END:VEVENT
END:VCALENDAR
