BEGIN:VCALENDAR
VERSION:2.0
PRODID:-//LEO Network//Training Calendar//EN
BEGIN:VEVENT
UID:event-5381@leo-network.com
DTSTAMP:20260423T025247Z
DTSTART:20250303T160000Z
DTEND:20250304T010000Z
SUMMARY:Cartel Traps
DESCRIPTION:Law Enforcement Training
Hosted by: Cartel Traps

View event details:
https://www.leo-network.com/event/cartel-traps-lawrenceville-ga-5381/
LOCATION:Lawrenceville, GA
URL:https://www.leo-network.com/event/cartel-traps-lawrenceville-ga-5381/
END:VEVENT
END:VCALENDAR
