BEGIN:VCALENDAR
VERSION:2.0
PRODID:-//LEO Network//Training Calendar//EN
BEGIN:VEVENT
UID:event-5387@leo-network.com
DTSTAMP:20260423T022413Z
DTSTART:20240710T150000Z
DTEND:20240711T000000Z
SUMMARY:Pursuing Advanced DUI Investigations by Blue to Gold
DESCRIPTION:Law Enforcement Training
Hosted by: Blue to Gold Training

View event details:
https://www.leo-network.com/event/pursuing-advanced-dui-investigations-by-blue-to-gold-manchester-nh-5387/
LOCATION:Manchester, NH
URL:https://www.leo-network.com/event/pursuing-advanced-dui-investigations-by-blue-to-gold-manchester-nh-5387/
END:VEVENT
END:VCALENDAR
