BEGIN:VCALENDAR
VERSION:2.0
PRODID:-//LEO Network//Training Calendar//EN
BEGIN:VEVENT
UID:event-5394@leo-network.com
DTSTAMP:20260422T161444Z
DTSTART:20240731T150000Z
DTEND:20240801T000000Z
SUMMARY:Mastering Search and Seizure by Blue to Gold
DESCRIPTION:Law Enforcement Training
Hosted by: Blue to Gold Training

View event details:
https://www.leo-network.com/event/mastering-search-and-seizure-by-blue-to-gold-harrisonville-mo-5394/
LOCATION:Harrisonville, MO
URL:https://www.leo-network.com/event/mastering-search-and-seizure-by-blue-to-gold-harrisonville-mo-5394/
END:VEVENT
END:VCALENDAR
