BEGIN:VCALENDAR
VERSION:2.0
PRODID:-//LEO Network//Training Calendar//EN
BEGIN:VEVENT
UID:event-5396@leo-network.com
DTSTAMP:20260423T115026Z
DTSTART:20240823T150000Z
DTEND:20240824T000000Z
SUMMARY:The Ultimate K9 Handler by Blue to Gold
DESCRIPTION:Law Enforcement Training
Hosted by: Blue to Gold Training

View event details:
https://www.leo-network.com/event/the-ultimate-k9-handler-by-blue-to-gold-marion-nc-5396/
LOCATION:Marion, NC
URL:https://www.leo-network.com/event/the-ultimate-k9-handler-by-blue-to-gold-marion-nc-5396/
END:VEVENT
END:VCALENDAR
