BEGIN:VCALENDAR
VERSION:2.0
PRODID:-//LEO Network//Training Calendar//EN
BEGIN:VEVENT
UID:event-5404@leo-network.com
DTSTAMP:20260423T111522Z
DTSTART:20240912T150000Z
DTEND:20240913T000000Z
SUMMARY:Crisis Communication: Skills for De-Escalating Encounters by Blue to Gold
DESCRIPTION:Law Enforcement Training
Hosted by: Blue to Gold Training

View event details:
https://www.leo-network.com/event/crisis-communication-skills-for-de-escalating-encounters-by-blue-to-gold-wheeling-wv-5404/
LOCATION:Wheeling, WV
URL:https://www.leo-network.com/event/crisis-communication-skills-for-de-escalating-encounters-by-blue-to-gold-wheeling-wv-5404/
END:VEVENT
END:VCALENDAR
