BEGIN:VCALENDAR
VERSION:2.0
PRODID:-//LEO Network//Training Calendar//EN
BEGIN:VEVENT
UID:event-5411@leo-network.com
DTSTAMP:20260422T144651Z
DTSTART:20240924T150000Z
DTEND:20240925T000000Z
SUMMARY:Advanced Search & Seizure by Blue to Gold
DESCRIPTION:Law Enforcement Training
Hosted by: Blue to Gold Training

View event details:
https://www.leo-network.com/event/advanced-search-seizure-by-blue-to-gold-brighton-mi-5411/
LOCATION:Brighton, MI
URL:https://www.leo-network.com/event/advanced-search-seizure-by-blue-to-gold-brighton-mi-5411/
END:VEVENT
END:VCALENDAR
