BEGIN:VCALENDAR
VERSION:2.0
PRODID:-//LEO Network//Training Calendar//EN
BEGIN:VEVENT
UID:event-5412@leo-network.com
DTSTAMP:20260422T144652Z
DTSTART:20240925T150000Z
DTEND:20240926T000000Z
SUMMARY:Advanced Traffic Stops by Blue to Gold
DESCRIPTION:Law Enforcement Training
Hosted by: Blue to Gold Training

View event details:
https://www.leo-network.com/event/advanced-traffic-stops-by-blue-to-gold-brighton-mi-5412/
LOCATION:Brighton, MI
URL:https://www.leo-network.com/event/advanced-traffic-stops-by-blue-to-gold-brighton-mi-5412/
END:VEVENT
END:VCALENDAR
