BEGIN:VCALENDAR
VERSION:2.0
PRODID:-//LEO Network//Training Calendar//EN
BEGIN:VEVENT
UID:event-5413@leo-network.com
DTSTAMP:20260422T144652Z
DTSTART:20240926T150000Z
DTEND:20240927T000000Z
SUMMARY:Duty to Intervene by Blue to Gold
DESCRIPTION:Law Enforcement Training
Hosted by: Blue to Gold Training

View event details:
https://www.leo-network.com/event/duty-to-intervene-by-blue-to-gold-brighton-mi-5413/
LOCATION:Brighton, MI
URL:https://www.leo-network.com/event/duty-to-intervene-by-blue-to-gold-brighton-mi-5413/
END:VEVENT
END:VCALENDAR
