BEGIN:VCALENDAR
VERSION:2.0
PRODID:-//LEO Network//Training Calendar//EN
BEGIN:VEVENT
UID:event-5414@leo-network.com
DTSTAMP:20260422T144651Z
DTSTART:20240926T150000Z
DTEND:20240927T000000Z
SUMMARY:Crime Scene Investigation Case Law by Blue to Gold
DESCRIPTION:Law Enforcement Training
Hosted by: Blue to Gold Training

View event details:
https://www.leo-network.com/event/crime-scene-investigation-case-law-by-blue-to-gold-brighton-mi-5414/
LOCATION:Brighton, MI
URL:https://www.leo-network.com/event/crime-scene-investigation-case-law-by-blue-to-gold-brighton-mi-5414/
END:VEVENT
END:VCALENDAR
