BEGIN:VCALENDAR
VERSION:2.0
PRODID:-//LEO Network//Training Calendar//EN
BEGIN:VEVENT
UID:event-5420@leo-network.com
DTSTAMP:20260423T061314Z
DTSTART:20241010T150000Z
DTEND:20241011T000000Z
SUMMARY:Advanced Search & Seizure by Blue to Gold
DESCRIPTION:Law Enforcement Training
Hosted by: Blue to Gold Training

View event details:
https://www.leo-network.com/event/advanced-search-seizure-by-blue-to-gold-germantown-tn-5420/
LOCATION:Germantown, TN
URL:https://www.leo-network.com/event/advanced-search-seizure-by-blue-to-gold-germantown-tn-5420/
END:VEVENT
END:VCALENDAR
