BEGIN:VCALENDAR
VERSION:2.0
PRODID:-//LEO Network//Training Calendar//EN
BEGIN:VEVENT
UID:event-5421@leo-network.com
DTSTAMP:20260423T061334Z
DTSTART:20241011T150000Z
DTEND:20241012T000000Z
SUMMARY:Advanced Traffic Stops by Blue to Gold
DESCRIPTION:Law Enforcement Training
Hosted by: Blue to Gold Training

View event details:
https://www.leo-network.com/event/advanced-traffic-stops-by-blue-to-gold-germantown-tn-5421/
LOCATION:Germantown, TN
URL:https://www.leo-network.com/event/advanced-traffic-stops-by-blue-to-gold-germantown-tn-5421/
END:VEVENT
END:VCALENDAR
