BEGIN:VCALENDAR
VERSION:2.0
PRODID:-//LEO Network//Training Calendar//EN
BEGIN:VEVENT
UID:event-5441@leo-network.com
DTSTAMP:20260423T100457Z
DTSTART:20241218T160000Z
DTEND:20241219T010000Z
SUMMARY:West Virginia Mastering Search & Seizure by Blue to Gold
DESCRIPTION:Law Enforcement Training
Hosted by: Blue to Gold Training

View event details:
https://www.leo-network.com/event/west-virginia-mastering-search-seizure-by-blue-to-gold-wheeling-wv-5441/
LOCATION:Wheeling, WV
URL:https://www.leo-network.com/event/west-virginia-mastering-search-seizure-by-blue-to-gold-wheeling-wv-5441/
END:VEVENT
END:VCALENDAR
