BEGIN:VCALENDAR
VERSION:2.0
PRODID:-//LEO Network//Training Calendar//EN
BEGIN:VEVENT
UID:event-5495@leo-network.com
DTSTAMP:20260422T172945Z
DTSTART:20240729T150000Z
DTEND:20240703T000000Z
SUMMARY:Criminal Investigations Using Cellular Technologies Basic 40 Hour Cellular Investigations Course
DESCRIPTION:Law Enforcement Training
Hosted by: LexisNexis Risk Solutions

View event details:
https://www.leo-network.com/event/criminal-investigations-using-cellular-technologies-basic-40-hour-cellular-investigations-course-oklahoma-city-ok-5495/
LOCATION:Oklahoma City, OK
URL:https://www.leo-network.com/event/criminal-investigations-using-cellular-technologies-basic-40-hour-cellular-investigations-course-oklahoma-city-ok-5495/
END:VEVENT
END:VCALENDAR
