BEGIN:VCALENDAR
VERSION:2.0
PRODID:-//LEO Network//Training Calendar//EN
BEGIN:VEVENT
UID:event-5558@leo-network.com
DTSTAMP:20260422T115531Z
DTSTART:20241106T160000Z
DTEND:20241107T010000Z
SUMMARY:Body Language for Law Enforcement
DESCRIPTION:Law Enforcement Training
Hosted by: ONEFACE LLC

View event details:
https://www.leo-network.com/event/body-language-for-law-enforcement-peoria-az-5558/
LOCATION:Peoria, AZ
URL:https://www.leo-network.com/event/body-language-for-law-enforcement-peoria-az-5558/
END:VEVENT
END:VCALENDAR
