BEGIN:VCALENDAR
VERSION:2.0
PRODID:-//LEO Network//Training Calendar//EN
BEGIN:VEVENT
UID:event-5561@leo-network.com
DTSTAMP:20260422T155029Z
DTSTART:20240919T150000Z
DTEND:20240920T000000Z
SUMMARY:Recognizing Pre-Attack Indicators
DESCRIPTION:Law Enforcement Training
Hosted by: ONEFACE LLC

View event details:
https://www.leo-network.com/event/recognizing-pre-attack-indicators-devils-lake-nd-5561/
LOCATION:Devils Lake, ND
URL:https://www.leo-network.com/event/recognizing-pre-attack-indicators-devils-lake-nd-5561/
END:VEVENT
END:VCALENDAR
