BEGIN:VCALENDAR
VERSION:2.0
PRODID:-//LEO Network//Training Calendar//EN
BEGIN:VEVENT
UID:event-5562@leo-network.com
DTSTAMP:20260422T115622Z
DTSTART:20241107T160000Z
DTEND:20241108T010000Z
SUMMARY:Recognizing Pre-Attack Indicators
DESCRIPTION:Law Enforcement Training
Hosted by: ONEFACE LLC

View event details:
https://www.leo-network.com/event/recognizing-pre-attack-indicators-peoria-az-5562/
LOCATION:Peoria, AZ
URL:https://www.leo-network.com/event/recognizing-pre-attack-indicators-peoria-az-5562/
END:VEVENT
END:VCALENDAR
